BEGIN:VCALENDAR
VERSION:2.0
PRODID:-//Diabetes-Anker - ECPv6.15.20//NONSGML v1.0//EN
CALSCALE:GREGORIAN
METHOD:PUBLISH
X-WR-CALNAME:Diabetes-Anker
X-ORIGINAL-URL:https://diabetes-anker.de
X-WR-CALDESC:Veranstaltungen für Diabetes-Anker
REFRESH-INTERVAL;VALUE=DURATION:PT1H
X-Robots-Tag:noindex
X-PUBLISHED-TTL:PT1H
BEGIN:VTIMEZONE
TZID:Europe/Berlin
BEGIN:DAYLIGHT
TZOFFSETFROM:+0100
TZOFFSETTO:+0200
TZNAME:CEST
DTSTART:20250330T010000
END:DAYLIGHT
BEGIN:STANDARD
TZOFFSETFROM:+0200
TZOFFSETTO:+0100
TZNAME:CET
DTSTART:20251026T010000
END:STANDARD
BEGIN:DAYLIGHT
TZOFFSETFROM:+0100
TZOFFSETTO:+0200
TZNAME:CEST
DTSTART:20260329T010000
END:DAYLIGHT
BEGIN:STANDARD
TZOFFSETFROM:+0200
TZOFFSETTO:+0100
TZNAME:CET
DTSTART:20261025T010000
END:STANDARD
BEGIN:DAYLIGHT
TZOFFSETFROM:+0100
TZOFFSETTO:+0200
TZNAME:CEST
DTSTART:20270328T010000
END:DAYLIGHT
BEGIN:STANDARD
TZOFFSETFROM:+0200
TZOFFSETTO:+0100
TZNAME:CET
DTSTART:20271031T010000
END:STANDARD
END:VTIMEZONE
BEGIN:VEVENT
DTSTART;TZID=Europe/Berlin:20260613T090000
DTEND;TZID=Europe/Berlin:20260613T160000
DTSTAMP:20260424T143805
CREATED:20260423T074731Z
LAST-MODIFIED:20260423T074731Z
UID:1095755-1781341200-1781366400@diabetes-anker.de
SUMMARY:AdiBetika - der Informationstag für Menschen mit Adipositas / Diabetes
DESCRIPTION:1. gemeinsamer Informationstag für Menschen mit Adipositas und/oder Diabetes\, Angehörige sowie Fachinteressierte am 13. Juni 2026 \nDie ADIBETIKA verbindet Information\, Erfahrungsaustausch und aktuelle medizinische Themen in einem Programm mit parallelen Schwerpunkten zu: \n• ADIPOSITAS \n• Typ-2-Diabetes \n• Typ-1-Diabetes \n• sowie übergreifende Themen (z. B. Digitalisierung\, KI in der Medizin\, Stigmatisierung\, Ausblick auf zukunftige Versorgung) \nWir laden Sie herzlich ein\, sich dort auszutauschen\, zu beteiligen und\, je nach Interesse\, aktiv am Programm mitzuwirken. \nEinlass ist ab 9.00 Uhr\, das Programm beginnt um 9.30 Uhr. \nAls Dankeschön für Ihre Teilnahme bekommen Sie kostenlos eine Tasche mit\n– vielen hilfreichen Informationen\n– Materialien rund um Diabetes und Adipositas\n– kleinen Proben unserer Aussteller \nZeigen Sie einfach Ihr Ticket am Infostand vor.\n(Nur solange der Vorrat reicht) \nMehr Infos gibt es immer wieder aktualisiert auf den Websites der Veranstalter\, aber auch auf Instagram\, Facebook & Co.
URL:https://diabetes-anker.de/veranstaltung/adibetika-der-informationstag-fuer-menschen-mit-adipositas-diabetes/
LOCATION:Mercatorhalle\, Landfermannstr. 6\, Duisburg\, 47051
ATTACH;FMTTYPE=image/png:https://diabetes-anker.de/wp-content/uploads/2026/04/Screenshot-2026-04-23-094323.png
END:VEVENT
END:VCALENDAR